BEGIN:VCALENDAR
VERSION:2.0
PRODID:-//Luhdener Sport Verein von 1965 e.V. - ECPv6.5.0//NONSGML v1.0//EN
CALSCALE:GREGORIAN
METHOD:PUBLISH
X-ORIGINAL-URL:https://www.luhdener-sport-verein.de
X-WR-CALDESC:Veranstaltungen für Luhdener Sport Verein von 1965 e.V.
REFRESH-INTERVAL;VALUE=DURATION:PT1H
X-Robots-Tag:noindex
X-PUBLISHED-TTL:PT1H
BEGIN:VTIMEZONE
TZID:Europe/Berlin
BEGIN:DAYLIGHT
TZOFFSETFROM:+0100
TZOFFSETTO:+0200
TZNAME:CEST
DTSTART:20240331T010000
END:DAYLIGHT
BEGIN:STANDARD
TZOFFSETFROM:+0200
TZOFFSETTO:+0100
TZNAME:CET
DTSTART:20241027T010000
END:STANDARD
END:VTIMEZONE
BEGIN:VEVENT
DTSTART;VALUE=DATE:20241212
DTEND;VALUE=DATE:20241213
DTSTAMP:20260425T170248
CREATED:20240924T164235Z
LAST-MODIFIED:20241115T163331Z
UID:1904-1733961600-1734047999@www.luhdener-sport-verein.de
SUMMARY:LSV-Vereinsheim - Postsport-Verein Bückeburg
DESCRIPTION:
URL:https://www.luhdener-sport-verein.de/event/postsport-verein-bueckeburg-im-vereinsheim-ab-18-00/
LOCATION:Vereinsheim
CATEGORIES:Vereinsheim
END:VEVENT
END:VCALENDAR